BEGIN:VCALENDAR
VERSION:2.0
PRODID:-//Calico Homes - ECPv6.15.15//NONSGML v1.0//EN
CALSCALE:GREGORIAN
METHOD:PUBLISH
X-ORIGINAL-URL:https://calicohomes.org.uk
X-WR-CALDESC:Events for Calico Homes
REFRESH-INTERVAL;VALUE=DURATION:PT1H
X-Robots-Tag:noindex
X-PUBLISHED-TTL:PT1H
BEGIN:VTIMEZONE
TZID:UTC
BEGIN:STANDARD
TZOFFSETFROM:+0000
TZOFFSETTO:+0000
TZNAME:UTC
DTSTART:20240101T000000
END:STANDARD
END:VTIMEZONE
BEGIN:VEVENT
DTSTART;TZID=UTC:20251104T140000
DTEND;TZID=UTC:20251104T153000
DTSTAMP:20260424T052238
CREATED:20251022T122150Z
LAST-MODIFIED:20251022T122150Z
UID:9803-1762264800-1762270200@calicohomes.org.uk
SUMMARY:Afternoon tea & memories
DESCRIPTION:Come join us for free afternoon tea and memories. We will be playing bingo and also have a singsong\, \nWe are also having raffle – donations are welcome.
URL:https://calicohomes.org.uk/event/afternoon-tea-memories/
LOCATION:St Matthew’s Church Hall\, Albion Stret\, BB11 4JG\, United Kingdom
ATTACH;FMTTYPE=image/jpeg:https://calicohomes.org.uk/app/uploads/sites/5/2025/10/afternoon-tea.jpg
END:VEVENT
END:VCALENDAR